BEGIN:VCALENDAR
VERSION:2.0
PRODID:-//Operation Our Town - ECPv6.15.17.1//NONSGML v1.0//EN
CALSCALE:GREGORIAN
METHOD:PUBLISH
X-WR-CALNAME:Operation Our Town
X-ORIGINAL-URL:https://operationourtown.org
X-WR-CALDESC:Events for Operation Our Town
REFRESH-INTERVAL;VALUE=DURATION:PT1H
X-Robots-Tag:noindex
X-PUBLISHED-TTL:PT1H
BEGIN:VTIMEZONE
TZID:UTC
BEGIN:STANDARD
TZOFFSETFROM:+0000
TZOFFSETTO:+0000
TZNAME:UTC
DTSTART:20240101T000000
END:STANDARD
END:VTIMEZONE
BEGIN:VEVENT
DTSTART;TZID=UTC:20260508T110000
DTEND;TZID=UTC:20260508T130000
DTSTAMP:20260422T224532
CREATED:20260227T161218Z
LAST-MODIFIED:20260227T161218Z
UID:100882-1778238000-1778245200@operationourtown.org
SUMMARY:Poverty and the Impact on Blair County
DESCRIPTION:
URL:https://operationourtown.org/event/poverty-and-the-impact-on-blair-county/
LOCATION:First Church of Christ\, Altoona
END:VEVENT
BEGIN:VEVENT
DTSTART;VALUE=DATE:20260501
DTEND;VALUE=DATE:20260502
DTSTAMP:20260422T224532
CREATED:20260227T161118Z
LAST-MODIFIED:20260227T161118Z
UID:100880-1777593600-1777679999@operationourtown.org
SUMMARY:2026 OOT Prevention Grant Cycle Opens
DESCRIPTION:
URL:https://operationourtown.org/event/2026-oot-prevention-grant-cycle-opens/
END:VEVENT
BEGIN:VEVENT
DTSTART;TZID=UTC:20260409T090000
DTEND;TZID=UTC:20260409T103000
DTSTAMP:20260422T224532
CREATED:20260227T161018Z
LAST-MODIFIED:20260227T161018Z
UID:100878-1775725200-1775730600@operationourtown.org
SUMMARY:OOT Grant Training
DESCRIPTION:
URL:https://operationourtown.org/event/oot-grant-training-2/
LOCATION:American Legion Social Hall\, Hollidaysburg
END:VEVENT
BEGIN:VEVENT
DTSTART;VALUE=DATE:20260406
DTEND;VALUE=DATE:20260407
DTSTAMP:20260422T224532
CREATED:20260227T160929Z
LAST-MODIFIED:20260227T160929Z
UID:100876-1775433600-1775519999@operationourtown.org
SUMMARY:OOT Video Contest Entry Deadline
DESCRIPTION:
URL:https://operationourtown.org/event/oot-video-contest-entry-deadline/
END:VEVENT
BEGIN:VEVENT
DTSTART;TZID=UTC:20260312T073000
DTEND;TZID=UTC:20260312T093000
DTSTAMP:20260422T224532
CREATED:20260227T160831Z
LAST-MODIFIED:20260227T160831Z
UID:100872-1773300600-1773307800@operationourtown.org
SUMMARY:OOT presentation at Blair County Chamber of Commerce Breakfast Club
DESCRIPTION:
URL:https://operationourtown.org/event/oot-presentation-at-blair-county-chamber-of-commerce-breakfast-club/
LOCATION:Blair County Convention Center
END:VEVENT
BEGIN:VEVENT
DTSTART;TZID=UTC:20251114T083000
DTEND;TZID=UTC:20251114T150000
DTSTAMP:20260422T224532
CREATED:20250623T125215Z
LAST-MODIFIED:20250623T125215Z
UID:100807-1763109000-1763132400@operationourtown.org
SUMMARY:Landlord Educational Workshop
DESCRIPTION:
URL:https://operationourtown.org/event/landlord-educational-workshop/
LOCATION:Altoona Grand Hotel
END:VEVENT
BEGIN:VEVENT
DTSTART;TZID=UTC:20250916T080000
DTEND;TZID=UTC:20250916T170000
DTSTAMP:20260422T224532
CREATED:20241125T182933Z
LAST-MODIFIED:20241125T182933Z
UID:100613-1758009600-1758042000@operationourtown.org
SUMMARY:13th Annual OOT Golf Tournament
DESCRIPTION:8:00am at Park Hills Golf Club – 13th Annual OOT Golf Tournament\n1:00pm at Park Hills Golf Club – 13th Annual OOT Golf Tournament
URL:https://operationourtown.org/event/13th-annual-oot-golf-tournament/
LOCATION:Park Hills Golf Club
END:VEVENT
BEGIN:VEVENT
DTSTART;TZID=UTC:20250915T170000
DTEND;TZID=UTC:20250915T200000
DTSTAMP:20260422T224532
CREATED:20250623T125120Z
LAST-MODIFIED:20250623T125120Z
UID:100805-1757955600-1757966400@operationourtown.org
SUMMARY:Operation Our Town Appreciation Night
DESCRIPTION:
URL:https://operationourtown.org/event/operation-our-town-appreciation-night/
LOCATION:Park Hills Golf Club
END:VEVENT
BEGIN:VEVENT
DTSTART;TZID=UTC:20250915T080000
DTEND;TZID=UTC:20250915T170000
DTSTAMP:20260422T224532
CREATED:20241125T182815Z
LAST-MODIFIED:20241125T182815Z
UID:100610-1757923200-1757955600@operationourtown.org
SUMMARY:Tee Off Against Drugs Student Golf Tournament and Mini Golf Tournament
DESCRIPTION:8:00am at Park Hills Golf Club – Tee Off Against Drugs Student Golf Tournament\n1:00pm at Park Hills Golf Club – Tee Off Against Drugs Student Golf Tournament\n4:00pm at Lakemont Park – OOT Mini-Golf Tournament\n5:00pm at Park Hills Golf Club – OOT Appreciation Night
URL:https://operationourtown.org/event/tee-off-against-drugs-student-golf-tournament-and-mini-golf-tournament/
LOCATION:Park Hills Golf Club
END:VEVENT
BEGIN:VEVENT
DTSTART;TZID=UTC:20250807T110000
DTEND;TZID=UTC:20250807T160000
DTSTAMP:20260422T224532
CREATED:20241211T191310Z
LAST-MODIFIED:20241211T191310Z
UID:100663-1754564400-1754582400@operationourtown.org
SUMMARY:Operation Our Town Day at DelGrosso’s Park
DESCRIPTION:
URL:https://operationourtown.org/event/operation-our-town-day-at-delgrossos-park/
END:VEVENT
BEGIN:VEVENT
DTSTART;TZID=UTC:20250617T180000
DTEND;TZID=UTC:20250617T210000
DTSTAMP:20260422T224532
CREATED:20241211T191205Z
LAST-MODIFIED:20241211T191205Z
UID:100661-1750183200-1750194000@operationourtown.org
SUMMARY:Operation Our Town Night at Altoona Curve
DESCRIPTION:
URL:https://operationourtown.org/event/operation-our-town-night-at-altoona-curve/
END:VEVENT
BEGIN:VEVENT
DTSTART;VALUE=DATE:20250606
DTEND;VALUE=DATE:20250607
DTSTAMP:20260422T224532
CREATED:20241125T182638Z
LAST-MODIFIED:20241211T191040Z
UID:100608-1749168000-1749254399@operationourtown.org
SUMMARY:2025 OOT Grant Cycle deadline
DESCRIPTION:
URL:https://operationourtown.org/event/2025-oot-grant-cycle-deadline/
END:VEVENT
BEGIN:VEVENT
DTSTART;VALUE=DATE:20250501
DTEND;VALUE=DATE:20250502
DTSTAMP:20260422T224532
CREATED:20241125T182612Z
LAST-MODIFIED:20241211T191048Z
UID:100606-1746057600-1746143999@operationourtown.org
SUMMARY:2025 OOT Grant Cycle opens
DESCRIPTION:
URL:https://operationourtown.org/event/2025-oot-grant-cycle-opens/
END:VEVENT
BEGIN:VEVENT
DTSTART;TZID=UTC:20250411T090000
DTEND;TZID=UTC:20250411T103000
DTSTAMP:20260422T224532
CREATED:20250304T150046Z
LAST-MODIFIED:20250304T150046Z
UID:100761-1744362000-1744367400@operationourtown.org
SUMMARY:OOT Grant Training
DESCRIPTION:
URL:https://operationourtown.org/event/oot-grant-training/
LOCATION:American Legion Social Hall\, Hollidaysburg
END:VEVENT
BEGIN:VEVENT
DTSTART;TZID=UTC:20250313T073000
DTEND;TZID=UTC:20250313T090000
DTSTAMP:20260422T224532
CREATED:20241125T182441Z
LAST-MODIFIED:20241125T182441Z
UID:100603-1741851000-1741856400@operationourtown.org
SUMMARY:OOT presentation at the Blair County Chamber of Commerce Breakfast Club
DESCRIPTION:
URL:https://operationourtown.org/event/oot-presentation-at-the-blair-county-chamber-of-commerce-breakfast-club/
LOCATION:The Casino\, Altoona\, PA\, United States
END:VEVENT
END:VCALENDAR