BEGIN:VCALENDAR
VERSION:2.0
PRODID:-//Operation Our Town - ECPv6.15.17.1//NONSGML v1.0//EN
CALSCALE:GREGORIAN
METHOD:PUBLISH
X-WR-CALNAME:Operation Our Town
X-ORIGINAL-URL:https://operationourtown.org
X-WR-CALDESC:Events for Operation Our Town
REFRESH-INTERVAL;VALUE=DURATION:PT1H
X-Robots-Tag:noindex
X-PUBLISHED-TTL:PT1H
BEGIN:VTIMEZONE
TZID:UTC
BEGIN:STANDARD
TZOFFSETFROM:+0000
TZOFFSETTO:+0000
TZNAME:UTC
DTSTART:20250101T000000
END:STANDARD
END:VTIMEZONE
BEGIN:VEVENT
DTSTART;VALUE=DATE:20260501
DTEND;VALUE=DATE:20260502
DTSTAMP:20260422T225917
CREATED:20260227T161118Z
LAST-MODIFIED:20260227T161118Z
UID:100880-1777593600-1777679999@operationourtown.org
SUMMARY:2026 OOT Prevention Grant Cycle Opens
DESCRIPTION:
URL:https://operationourtown.org/event/2026-oot-prevention-grant-cycle-opens/
END:VEVENT
BEGIN:VEVENT
DTSTART;TZID=UTC:20260508T110000
DTEND;TZID=UTC:20260508T130000
DTSTAMP:20260422T225917
CREATED:20260227T161218Z
LAST-MODIFIED:20260227T161218Z
UID:100882-1778238000-1778245200@operationourtown.org
SUMMARY:Poverty and the Impact on Blair County
DESCRIPTION:
URL:https://operationourtown.org/event/poverty-and-the-impact-on-blair-county/
LOCATION:First Church of Christ\, Altoona
END:VEVENT
BEGIN:VEVENT
DTSTART;VALUE=DATE:20260606
DTEND;VALUE=DATE:20260607
DTSTAMP:20260422T225917
CREATED:20260227T161258Z
LAST-MODIFIED:20260227T161258Z
UID:100885-1780704000-1780790399@operationourtown.org
SUMMARY:2026 OOT Prevention Grant Cycle Application Deadline
DESCRIPTION:
URL:https://operationourtown.org/event/2026-oot-prevention-grant-cycle-application-deadline/
END:VEVENT
BEGIN:VEVENT
DTSTART;TZID=UTC:20260625T183000
DTEND;TZID=UTC:20260625T213000
DTSTAMP:20260422T225917
CREATED:20260227T161410Z
LAST-MODIFIED:20260227T161410Z
UID:100887-1782412200-1782423000@operationourtown.org
SUMMARY:OOT Night at Altoona Curve
DESCRIPTION:
URL:https://operationourtown.org/event/oot-night-at-altoona-curve/
END:VEVENT
BEGIN:VEVENT
DTSTART;TZID=UTC:20260806T110000
DTEND;TZID=UTC:20260806T170000
DTSTAMP:20260422T225917
CREATED:20260302T181840Z
LAST-MODIFIED:20260302T181840Z
UID:100895-1786014000-1786035600@operationourtown.org
SUMMARY:OOT Day at DelGrosso’s Park & Laguna Splash
DESCRIPTION:
URL:https://operationourtown.org/event/oot-day-at-delgrossos-park-laguna-splash/
LOCATION:Delgrosso’s Park
END:VEVENT
END:VCALENDAR